BEGIN:VCALENDAR
VERSION:2.0
PRODID:-//LibreRegistration//EN
BEGIN:VEVENT
UID:00000000-0000-4000-8000-000000009870@libreregistration
DTSTAMP:20260421T051730Z
DTSTART:20190608T000000Z
DTEND:20190608T020000Z
SUMMARY:Atelier Blender — 08/06/2019
END:VEVENT
END:VCALENDAR
