BEGIN:VCALENDAR
VERSION:2.0
PRODID:-//LibreRegistration//EN
BEGIN:VEVENT
UID:00000000-0000-4000-8000-000000009867@libreregistration
DTSTAMP:20260421T051151Z
DTSTART:20190511T000000Z
DTEND:20190511T020000Z
SUMMARY:Atelier Cpp Qt — 11/05/2019
END:VEVENT
END:VCALENDAR
