BEGIN:VCALENDAR
VERSION:2.0
PRODID:-//LibreRegistration//EN
BEGIN:VEVENT
UID:00000000-0000-4000-8000-000000009857@libreregistration
DTSTAMP:20260421T052732Z
DTSTART:20190413T000000Z
DTEND:20190413T020000Z
SUMMARY:Atelier Blender — 13/04/2019
END:VEVENT
END:VCALENDAR
