BEGIN:VCALENDAR
VERSION:2.0
PRODID:-//LibreRegistration//EN
BEGIN:VEVENT
UID:00000000-0000-4000-8000-000000009840@libreregistration
DTSTAMP:20260421T051615Z
DTSTART:20190321T000000Z
DTEND:20190321T020000Z
SUMMARY:Qjelt — 21/03/2019
END:VEVENT
END:VCALENDAR
