BEGIN:VCALENDAR
VERSION:2.0
PRODID:-//LibreRegistration//EN
BEGIN:VEVENT
UID:00000000-0000-4000-8000-000000009831@libreregistration
DTSTAMP:20260421T052315Z
DTSTART:20190316T000000Z
DTEND:20190316T020000Z
SUMMARY:Atelier Cpp Qt — 16/03/2019
END:VEVENT
END:VCALENDAR
