BEGIN:VCALENDAR
VERSION:2.0
PRODID:-//LibreRegistration//EN
BEGIN:VEVENT
UID:00000000-0000-4000-8000-000000009817@libreregistration
DTSTAMP:20260421T050931Z
DTSTART:20190216T000000Z
DTEND:20190216T020000Z
SUMMARY:Atelier Cpp Qt — 16/02/2019
END:VEVENT
END:VCALENDAR
