BEGIN:VCALENDAR
VERSION:2.0
PRODID:-//LibreRegistration//EN
BEGIN:VEVENT
UID:00000000-0000-4000-8000-000000009797@libreregistration
DTSTAMP:20260421T052701Z
DTSTART:20190216T000000Z
DTEND:20190216T020000Z
SUMMARY:Atelier Blender — 16/02/2019
END:VEVENT
END:VCALENDAR
