BEGIN:VCALENDAR
VERSION:2.0
PRODID:-//LibreRegistration//EN
BEGIN:VEVENT
UID:00000000-0000-4000-8000-000000009800@libreregistration
DTSTAMP:20260421T051543Z
DTSTART:20190124T000000Z
DTEND:20190124T020000Z
SUMMARY:Qjelt — 24/01/2019
END:VEVENT
END:VCALENDAR
