BEGIN:VCALENDAR
VERSION:2.0
PRODID:-//LibreRegistration//EN
BEGIN:VEVENT
UID:00000000-0000-4000-8000-000000009794@libreregistration
DTSTAMP:20260421T051742Z
DTSTART:20190112T000000Z
DTEND:20190112T020000Z
SUMMARY:Atelier Blender — 12/01/2019
END:VEVENT
END:VCALENDAR
