BEGIN:VCALENDAR
VERSION:2.0
PRODID:-//LibreRegistration//EN
BEGIN:VEVENT
UID:00000000-0000-4000-8000-000000009738@libreregistration
DTSTAMP:20260421T051731Z
DTSTART:20181208T000000Z
DTEND:20181208T020000Z
SUMMARY:Atelier Blender — 08/12/2018
END:VEVENT
END:VCALENDAR
