BEGIN:VCALENDAR
VERSION:2.0
PRODID:-//LibreRegistration//EN
BEGIN:VEVENT
UID:00000000-0000-4000-8000-000000009764@libreregistration
DTSTAMP:20260421T051246Z
DTSTART:20181206T000000Z
DTEND:20181206T020000Z
SUMMARY:Qjelt — 06/12/2018
END:VEVENT
END:VCALENDAR
