BEGIN:VCALENDAR
VERSION:2.0
PRODID:-//LibreRegistration//EN
BEGIN:VEVENT
UID:00000000-0000-4000-8000-000000009750@libreregistration
DTSTAMP:20260421T050454Z
DTSTART:20181125T000000Z
DTEND:20181125T020000Z
SUMMARY:Atelier Cpp Qt — 25/11/2018
END:VEVENT
END:VCALENDAR
