BEGIN:VCALENDAR
VERSION:2.0
PRODID:-//LibreRegistration//EN
BEGIN:VEVENT
UID:00000000-0000-4000-8000-000000009731@libreregistration
DTSTAMP:20260421T071153Z
DTSTART:20181124T000000Z
DTEND:20181124T020000Z
SUMMARY:Atelier Blender — 24/11/2018
END:VEVENT
END:VCALENDAR
