BEGIN:VCALENDAR
VERSION:2.0
PRODID:-//LibreRegistration//EN
BEGIN:VEVENT
UID:00000000-0000-4000-8000-000000009717@libreregistration
DTSTAMP:20260421T070234Z
DTSTART:20181013T000000Z
DTEND:20181013T020000Z
SUMMARY:Atelier Blender — 13/10/2018
END:VEVENT
END:VCALENDAR
