BEGIN:VCALENDAR
VERSION:2.0
PRODID:-//LibreRegistration//EN
BEGIN:VEVENT
UID:00000000-0000-4000-8000-000000009714@libreregistration
DTSTAMP:20260421T065933Z
DTSTART:20180929T000000Z
DTEND:20180929T020000Z
SUMMARY:Atelier Cpp Qt — 29/09/2018
END:VEVENT
END:VCALENDAR
