BEGIN:VCALENDAR
VERSION:2.0
PRODID:-//LibreRegistration//EN
BEGIN:VEVENT
UID:00000000-0000-4000-8000-000000009680@libreregistration
DTSTAMP:20260421T071214Z
DTSTART:20180926T000000Z
DTEND:20180926T020000Z
SUMMARY:Atelier Blender — 26/09/2018
END:VEVENT
END:VCALENDAR
