BEGIN:VCALENDAR
VERSION:2.0
PRODID:-//LibreRegistration//EN
BEGIN:VEVENT
UID:00000000-0000-4000-8000-000000009697@libreregistration
DTSTAMP:20260421T071050Z
DTSTART:20180920T000000Z
DTEND:20180920T020000Z
SUMMARY:Qjelt — 20/09/2018
END:VEVENT
END:VCALENDAR
