BEGIN:VCALENDAR
VERSION:2.0
PRODID:-//LibreRegistration//EN
BEGIN:VEVENT
UID:00000000-0000-4000-8000-000000009673@libreregistration
DTSTAMP:20260421T065155Z
DTSTART:20180609T000000Z
DTEND:20180609T020000Z
SUMMARY:Atelier Cpp Qt — 09/06/2018
END:VEVENT
END:VCALENDAR
