BEGIN:VCALENDAR
VERSION:2.0
PRODID:-//LibreRegistration//EN
BEGIN:VEVENT
UID:00000000-0000-4000-8000-000000009660@libreregistration
DTSTAMP:20260421T070845Z
DTSTART:20180526T000000Z
DTEND:20180526T020000Z
SUMMARY:Atelier Cpp Qt — 26/05/2018
END:VEVENT
END:VCALENDAR
