BEGIN:VCALENDAR
VERSION:2.0
PRODID:-//LibreRegistration//EN
BEGIN:VEVENT
UID:00000000-0000-4000-8000-000000009634@libreregistration
DTSTAMP:20260421T065252Z
DTSTART:20180512T000000Z
DTEND:20180512T020000Z
SUMMARY:Atelier Cpp Qt — 12/05/2018
END:VEVENT
END:VCALENDAR
