BEGIN:VCALENDAR
VERSION:2.0
PRODID:-//LibreRegistration//EN
BEGIN:VEVENT
UID:00000000-0000-4000-8000-000000009586@libreregistration
DTSTAMP:20260421T071002Z
DTSTART:20180322T000000Z
DTEND:20180322T020000Z
SUMMARY:Qjelt — 22/03/2018
END:VEVENT
END:VCALENDAR
