BEGIN:VCALENDAR
VERSION:2.0
PRODID:-//LibreRegistration//EN
BEGIN:VEVENT
UID:00000000-0000-4000-8000-000000009610@libreregistration
DTSTAMP:20260421T065247Z
DTSTART:20180317T000000Z
DTEND:20180317T020000Z
SUMMARY:Atelier Cpp Qt — 17/03/2018
END:VEVENT
END:VCALENDAR
