BEGIN:VCALENDAR
VERSION:2.0
PRODID:-//LibreRegistration//EN
BEGIN:VEVENT
UID:00000000-0000-4000-8000-000000009579@libreregistration
DTSTAMP:20260421T065848Z
DTSTART:20180203T000000Z
DTEND:20180203T020000Z
SUMMARY:Atelier Cpp Qt — 03/02/2018
END:VEVENT
END:VCALENDAR
