BEGIN:VCALENDAR
VERSION:2.0
PRODID:-//LibreRegistration//EN
BEGIN:VEVENT
UID:00000000-0000-4000-8000-000000009605@libreregistration
DTSTAMP:20260421T071153Z
DTSTART:20180203T000000Z
DTEND:20180203T020000Z
SUMMARY:Atelier Blender — 03/02/2018
END:VEVENT
END:VCALENDAR
