BEGIN:VCALENDAR
VERSION:2.0
PRODID:-//LibreRegistration//EN
BEGIN:VEVENT
UID:00000000-0000-4000-8000-000000009549@libreregistration
DTSTAMP:20260421T070010Z
DTSTART:20180123T000000Z
DTEND:20180123T020000Z
SUMMARY:Qjelt — 23/01/2018
END:VEVENT
END:VCALENDAR
