BEGIN:VCALENDAR
VERSION:2.0
PRODID:-//LibreRegistration//EN
BEGIN:VEVENT
UID:00000000-0000-4000-8000-000000009542@libreregistration
DTSTAMP:20260421T070229Z
DTSTART:20180120T000000Z
DTEND:20180120T020000Z
SUMMARY:Atelier Blender — 20/01/2018
END:VEVENT
END:VCALENDAR
