BEGIN:VCALENDAR
VERSION:2.0
PRODID:-//LibreRegistration//EN
BEGIN:VEVENT
UID:00000000-0000-4000-8000-000000009493@libreregistration
DTSTAMP:20260421T070249Z
DTSTART:20171209T000000Z
DTEND:20171209T020000Z
SUMMARY:Atelier Blender — 09/12/2017
END:VEVENT
END:VCALENDAR
