BEGIN:VCALENDAR
VERSION:2.0
PRODID:-//LibreRegistration//EN
BEGIN:VEVENT
UID:00000000-0000-4000-8000-000000009521@libreregistration
DTSTAMP:20260421T065933Z
DTSTART:20171207T000000Z
DTEND:20171207T020000Z
SUMMARY:Qjelt — 07/12/2017
END:VEVENT
END:VCALENDAR
