BEGIN:VCALENDAR
VERSION:2.0
PRODID:-//LibreRegistration//EN
BEGIN:VEVENT
UID:00000000-0000-4000-8000-000000009480@libreregistration
DTSTAMP:20260421T070010Z
DTSTART:20171017T000000Z
DTEND:20171017T020000Z
SUMMARY:Qjelt — 17/10/2017
END:VEVENT
END:VCALENDAR
