BEGIN:VCALENDAR
VERSION:2.0
PRODID:-//LibreRegistration//EN
BEGIN:VEVENT
UID:00000000-0000-4000-8000-000000009467@libreregistration
DTSTAMP:20260421T065017Z
DTSTART:20171014T000000Z
DTEND:20171014T020000Z
SUMMARY:Atelier Cpp Qt — 14/10/2017
END:VEVENT
END:VCALENDAR
