BEGIN:VCALENDAR
VERSION:2.0
PRODID:-//LibreRegistration//EN
BEGIN:VEVENT
UID:00000000-0000-4000-8000-000000009452@libreregistration
DTSTAMP:20260421T065016Z
DTSTART:20170930T000000Z
DTEND:20170930T020000Z
SUMMARY:Atelier Cpp Qt — 30/09/2017
END:VEVENT
END:VCALENDAR
