BEGIN:VCALENDAR
VERSION:2.0
PRODID:-//LibreRegistration//EN
BEGIN:VEVENT
UID:00000000-0000-4000-8000-000000009435@libreregistration
DTSTAMP:20260421T071002Z
DTSTART:20170926T000000Z
DTEND:20170926T020000Z
SUMMARY:Qjelt — 26/09/2017
END:VEVENT
END:VCALENDAR
