BEGIN:VCALENDAR
VERSION:2.0
PRODID:-//LibreRegistration//EN
BEGIN:VEVENT
UID:00000000-0000-4000-8000-000000009409@libreregistration
DTSTAMP:20260423T091724Z
DTSTART:20170610T000000Z
DTEND:20170610T020000Z
SUMMARY:Atelier Cpp Qt — 10/06/2017
END:VEVENT
END:VCALENDAR
