BEGIN:VCALENDAR
VERSION:2.0
PRODID:-//LibreRegistration//EN
BEGIN:VEVENT
UID:00000000-0000-4000-8000-000000009388@libreregistration
DTSTAMP:20260423T091544Z
DTSTART:20170520T000000Z
DTEND:20170520T020000Z
SUMMARY:Atelier Python — 20/05/2017
END:VEVENT
END:VCALENDAR
