BEGIN:VCALENDAR
VERSION:2.0
PRODID:-//LibreRegistration//EN
BEGIN:VEVENT
UID:00000000-0000-4000-8000-000000009406@libreregistration
DTSTAMP:20260423T091735Z
DTSTART:20170520T000000Z
DTEND:20170520T020000Z
SUMMARY:Atelier Cpp Qt — 20/05/2017
END:VEVENT
END:VCALENDAR
