BEGIN:VCALENDAR
VERSION:2.0
PRODID:-//LibreRegistration//EN
BEGIN:VEVENT
UID:00000000-0000-4000-8000-000000009364@libreregistration
DTSTAMP:20260423T091731Z
DTSTART:20170422T000000Z
DTEND:20170422T020000Z
SUMMARY:Atelier Cpp Qt — 22/04/2017
END:VEVENT
END:VCALENDAR
