BEGIN:VCALENDAR
VERSION:2.0
PRODID:-//LibreRegistration//EN
BEGIN:VEVENT
UID:00000000-0000-4000-8000-000000009339@libreregistration
DTSTAMP:20260423T092032Z
DTSTART:20170420T000000Z
DTEND:20170420T020000Z
SUMMARY:Qjelt — 20/04/2017
END:VEVENT
END:VCALENDAR
