BEGIN:VCALENDAR
VERSION:2.0
PRODID:-//LibreRegistration//EN
BEGIN:VEVENT
UID:00000000-0000-4000-8000-000000009334@libreregistration
DTSTAMP:20260423T091736Z
DTSTART:20170325T000000Z
DTEND:20170325T020000Z
SUMMARY:Atelier Cpp Qt — 25/03/2017
END:VEVENT
END:VCALENDAR
