BEGIN:VCALENDAR
VERSION:2.0
PRODID:-//LibreRegistration//EN
BEGIN:VEVENT
UID:00000000-0000-4000-8000-000000009311@libreregistration
DTSTAMP:20260423T092020Z
DTSTART:20170316T000000Z
DTEND:20170316T020000Z
SUMMARY:Qjelt — 16/03/2017
END:VEVENT
END:VCALENDAR
