BEGIN:VCALENDAR
VERSION:2.0
PRODID:-//LibreRegistration//EN
BEGIN:VEVENT
UID:00000000-0000-4000-8000-000000009268@libreregistration
DTSTAMP:20260423T092359Z
DTSTART:20170225T000000Z
DTEND:20170225T020000Z
SUMMARY:Atelier Blender — 25/02/2017
END:VEVENT
END:VCALENDAR
