BEGIN:VCALENDAR
VERSION:2.0
PRODID:-//LibreRegistration//EN
BEGIN:VEVENT
UID:00000000-0000-4000-8000-000000009247@libreregistration
DTSTAMP:20260423T091409Z
DTSTART:20170209T000000Z
DTEND:20170209T020000Z
SUMMARY:Qjelt — 09/02/2017
END:VEVENT
END:VCALENDAR
