BEGIN:VCALENDAR
VERSION:2.0
PRODID:-//LibreRegistration//EN
BEGIN:VEVENT
UID:00000000-0000-4000-8000-000000009227@libreregistration
DTSTAMP:20260423T091356Z
DTSTART:20170114T000000Z
DTEND:20170114T020000Z
SUMMARY:Sous Titrage Arboresign — 14/01/2017
END:VEVENT
END:VCALENDAR
