BEGIN:VCALENDAR
VERSION:2.0
PRODID:-//LibreRegistration//EN
BEGIN:VEVENT
UID:00000000-0000-4000-8000-000000009206@libreregistration
DTSTAMP:20260423T091923Z
DTSTART:20170112T000000Z
DTEND:20170112T020000Z
SUMMARY:Qjelt — 12/01/2017
END:VEVENT
END:VCALENDAR
