BEGIN:VCALENDAR
VERSION:2.0
PRODID:-//LibreRegistration//EN
BEGIN:VEVENT
UID:00000000-0000-4000-8000-000000009120@libreregistration
DTSTAMP:20260423T091924Z
DTSTART:20161208T000000Z
DTEND:20161208T020000Z
SUMMARY:Qjelt — 08/12/2016
END:VEVENT
END:VCALENDAR
