BEGIN:VCALENDAR
VERSION:2.0
PRODID:-//LibreRegistration//EN
BEGIN:VEVENT
UID:00000000-0000-4000-8000-000000009087@libreregistration
DTSTAMP:20260423T092400Z
DTSTART:20161210T000000Z
DTEND:20161210T020000Z
SUMMARY:Atelier Blender — 10/12/2016
END:VEVENT
END:VCALENDAR
