BEGIN:VCALENDAR
VERSION:2.0
PRODID:-//LibreRegistration//EN
BEGIN:VEVENT
UID:00000000-0000-4000-8000-000000009117@libreregistration
DTSTAMP:20260423T091552Z
DTSTART:20161126T000000Z
DTEND:20161126T020000Z
SUMMARY:Atelier Python — 26/11/2016
END:VEVENT
END:VCALENDAR
