BEGIN:VCALENDAR
VERSION:2.0
PRODID:-//LibreRegistration//EN
BEGIN:VEVENT
UID:00000000-0000-4000-8000-000000009055@libreregistration
DTSTAMP:20260423T091923Z
DTSTART:20161025T000000Z
DTEND:20161025T020000Z
SUMMARY:Qjelt — 25/10/2016
END:VEVENT
END:VCALENDAR
