BEGIN:VCALENDAR
VERSION:2.0
PRODID:-//LibreRegistration//EN
BEGIN:VEVENT
UID:00000000-0000-4000-8000-000000009084@libreregistration
DTSTAMP:20260423T092242Z
DTSTART:20161015T000000Z
DTEND:20161015T020000Z
SUMMARY:Atelier Blender — 15/10/2016
END:VEVENT
END:VCALENDAR
