BEGIN:VCALENDAR
VERSION:2.0
PRODID:-//LibreRegistration//EN
BEGIN:VEVENT
UID:00000000-0000-4000-8000-000000009023@libreregistration
DTSTAMP:20260423T110421Z
DTSTART:20160929T000000Z
DTEND:20160929T020000Z
SUMMARY:Qjelt — 29/09/2016
END:VEVENT
END:VCALENDAR
