BEGIN:VCALENDAR
VERSION:2.0
PRODID:-//LibreRegistration//EN
BEGIN:VEVENT
UID:00000000-0000-4000-8000-000000009166@libreregistration
DTSTAMP:20260423T110852Z
DTSTART:20160924T000000Z
DTEND:20160924T020000Z
SUMMARY:Atelier Infographie — 24/09/2016
END:VEVENT
END:VCALENDAR
